BEGIN:VCALENDAR
VERSION:2.0
PRODID:-//ChamberMaster//Event Calendar 2.0//EN
METHOD:PUBLISH
X-PUBLISHED-TTL:P3D
REFRESH-INTERVAL:P3D
CALSCALE:GREGORIAN
BEGIN:VEVENT
DTSTART:20210309T010000Z
DTEND:20210311T110000Z
X-MICROSOFT-CDO-ALLDAYEVENT:FALSE
SUMMARY:Amchams of Asia Pacific (AAP) Summit 2021
DESCRIPTION:Registration for the AmChams of Asia Pacific (AAP) Business Summit is now open!\n\n \n\nJoin the region's largest AmCham event of 2021 from March 9- 11 for a rare opportunity to engage with industry leaders and government representatives from the U.S. and across the Asia Pacific region.\n\n \n\nAll morning plenary sessions will be taking place virtually\, with afternoon in-person industry breakout discussions for each of the 14 AmCham Committees to be held at Marina Bay Sands Singapore.\n\n \n\nPurchase your virtual pass now and enjoy early bird prices until January 31\, 2021. Tickets for the afternoon in-person events are pending government approval\, and we will notify you once registration for the in-person tickets is live.\n\n \n\nBONUS: Showcase your company and business leaders at the AmChamREPRESENT Awards 2021. Applications close February 1\, 2021.\n\n \n\nHave questions? Please email AmCham Singapore here.
X-ALT-DESC;FMTTYPE=text/html:<p><span style="font-size:14px\;"><strong>Registration for the&nbsp\;<a href="https://apc01.safelinks.protection.outlook.com/?url=https%3A%2F%2Fu15241523.ct.sendgrid.net%2Fls%2Fclick%3Fupn%3DqwfB2mu1CCSkc4YRzAzGfMLGSVJqussL53vxwwhvP82yJEyXNlLrmWk-2F24hyMRpAjj1LSE9ZPQujETlKEkNNXW2cMTkJmSIDd0AzDkdA3a24x0v9KMeKyHYdGe8K4YZy4lRbpYuIR7nxKzxKhDoC0GNohsW6sKyGqShKRJz3Ols64lqnIX3lED2MYhHh8Sh7Ct7iGcB8vXZZdFjBwfIPs5PrezSup-2FwQu4UESfZFwE2Aehr0MwZYZC9c1dQptX8XKNbm2F3qdTh0dorbuuw1lN-2BnlndDW0XvAMEvKNoNDhrkTEHQn-2BBJW4TL1vhdzcJ6Esti6FXbHW2R-2BxSNmpG-2BoNx-2FkyRApo-2BV9H-2FkwP3yd-2FcVXIoPu1EqIrGMKN4HC3F-2BbeKx_NQL-2BA5XxNgzBSXUPr2n-2BdNr02bEuamdiyCZz2dL-2BTg6UKiF6-2Fn60TGFLfbBnw9l-2F8FwGicDHjj0NOmXUbD4SUpDk2HCeqqr4h8swMxuCePytTcnCaNn7JaxcBENXOGUiy-2FKbZYS8rQa26iRgPlyo-2BGmfsRObCRHxdJcoDBhNR592MJFbTwGqFcCeh9rB7L-2B4TpbrHqojpOpU55tjx4rCRvqkBieS3sK7Nyh3YDwr9d22YZ0fQJs7eFT-2F3gO29B0o-2B4yMsbxkyqA2fvvMYcsekQMPmT5jPB1uJ-2Bjyx8TaRuqucLy-2BBU2sI1w028uRb4dhxlLWhnyjmcG0G8T4vlIA-2FvgeC0xApkEkXpr96hUb6VD9RX4ZOZbRjIcAU6ZIN4A-2F&amp\;data=04%7C01%7Cmhong%40amcham.com.sg%7C5feec3a2f3324781ac0e08d8c1083685%7C85952428dca0453591ecbb46fd169233%7C0%7C0%7C637471588300183179%7CUnknown%7CTWFpbGZsb3d8eyJWIjoiMC4wLjAwMDAiLCJQIjoiV2luMzIiLCJBTiI6Ik1haWwiLCJXVCI6Mn0%3D%7C1000&amp\;sdata=Y6ZR2%2FxeS4TgFMVcXJ8A6OabpEvaqy4A82rc7f0szgs%3D&amp\;reserved=0" target="_blank" title="AmChams of Asia Pacific (AAP) Business Summit">AmChams of Asia Pacific (AAP) Business Summit</a>&nbsp\;is now open!</strong></span><br />\n&nbsp\;<br />\nJoin the region&rsquo\;s largest AmCham event of 2021 from&nbsp\;March 9- 11 for a rare opportunity to engage with industry leaders and government representatives from the U.S. and across the Asia Pacific region.<br />\n&nbsp\;<br />\nAll morning plenary sessions will be taking place virtually\, with afternoon in-person industry breakout discussions for each of the 14 AmCham Committees to be held at Marina Bay Sands Singapore.<br />\n&nbsp\;<br />\n<a href="https://apc01.safelinks.protection.outlook.com/?url=https%3A%2F%2Fu15241523.ct.sendgrid.net%2Fls%2Fclick%3Fupn%3DqwfB2mu1CCSkc4YRzAzGfMLGSVJqussL53vxwwhvP82yJEyXNlLrmWk-2F24hyMRpAjj1LSE9ZPQujETlKEkNNXdZdyld-2BLPn7jxtSC5hGcblYERaalrEE3xseD2vJ9PZLAQ80QYT-2B7dg0qjaN40-2BlTQH4euYQqlnSMMLcdmMuO-2BKhqbM-2FAQE9nsKEU593b6hUTSuWZ37930-2Fa7ujhcG8Py5k1hk-2B7iXB4UlISVWJqyD2zzjQUubQKbg9zBxAMKzkCxkCRes-2BAUxjJZKyXSRnZjk7kETeTdc3WUNSzxtgPwbm7to-2F98Zsb3ptK-2FV5Hc2Jwf60zlM3dLW8fK6sY9J7Hi5Wu-2BdJTBUq5E5amF96dEq1KXNExhlqVNPFuplKwUeYDYv3GbXwy2lqVCVnu5l-2FxrCAhz-2F8mV48muPzJ1D1xNKxKw8uvcQQ8HujHRPwE7MAMpEJg_NQL-2BA5XxNgzBSXUPr2n-2BdNr02bEuamdiyCZz2dL-2BTg6UKiF6-2Fn60TGFLfbBnw9l-2F8FwGicDHjj0NOmXUbD4SUpDk2HCeqqr4h8swMxuCePytTcnCaNn7JaxcBENXOGUiy-2FKbZYS8rQa26iRgPlyo-2BGmfsRObCRHxdJcoDBhNR592MJFbTwGqFcCeh9rB7L-2B4TpbrHqojpOpU55tjx4rCRvqkBieS3sK7Nyh3YDwr9d2-2BlsN0OhUZvmLjBnDAZbBfy4jwRLNCRfo33TH6lrE6KrDKHC8IqVpBSrxmPe8HScVyjBnxpSQWPpKHO6yPgZ9I5J7Lk-2FxhHEGNRHDMqqu7uoxAfJl1ldi2jhXTCqSK9yqCj78OEmeiDIPYMceryL11&amp\;data=04%7C01%7Cmhong%40amcham.com.sg%7C5feec3a2f3324781ac0e08d8c1083685%7C85952428dca0453591ecbb46fd169233%7C0%7C0%7C637471588300193169%7CUnknown%7CTWFpbGZsb3d8eyJWIjoiMC4wLjAwMDAiLCJQIjoiV2luMzIiLCJBTiI6Ik1haWwiLCJXVCI6Mn0%3D%7C1000&amp\;sdata=IAzsydIFFiN3MuP%2FRUXMQEK5wLLlQT7f1JHiVTu0TdA%3D&amp\;reserved=0" target="_blank" title="Purchase your virtual pass now">Purchase your virtual pass now</a>&nbsp\;and enjoy early bird prices until&nbsp\;January 31\, 2021. Tickets for the afternoon in-person events are pending government approval\, and we will notify you once registration for the in-person tickets is live.<br />\n&nbsp\;<br />\nBONUS: Showcase your company and business leaders at the&nbsp\;<a href="https://apc01.safelinks.protection.outlook.com/?url=https%3A%2F%2Fu15241523.ct.sendgrid.net%2Fls%2Fclick%3Fupn%3DqwfB2mu1CCSkc4YRzAzGfMLGSVJqussL53vxwwhvP82yJEyXNlLrmWk-2F24hyMRpAjj1LSE9ZPQujETlKEkNNXWqE4CrakJHpZpIXsitDnnCLo8Z7q-2Bgkfa2-2Bl4BNibq4HoNx7uOlB4lLW1l1EZIVP4s6yfF86xDNpLv5JuIJ6d41cqdl5cCw4pj-2Fn80pdYua7lLyOCt-2BmZG-2F-2FYNrBLGQpLQ66yvZi5Za4WkLdjSNRGO2MUBdp0iEwvcIlwNF-2FsJY9JtlsxyFl2JkMuvKOELxfxZ8j87wqBI6l9iWhiONX-2Fv8JDWvcMfMMh4xBS-2BGB0uyzzAWEA5wROh15oVmpXHauDVgqmPfaSYN5FlSkPZQ6OWbAkf4G9XGmhg-2BvpvWKAVCUbxYs9WRTNsj-2FJ1piFoICaqMjemYoNQw6jwHBg9WXDFcxw7p0eKfWfzlZmALIkW2MNJX_NQL-2BA5XxNgzBSXUPr2n-2BdNr02bEuamdiyCZz2dL-2BTg6UKiF6-2Fn60TGFLfbBnw9l-2F8FwGicDHjj0NOmXUbD4SUpDk2HCeqqr4h8swMxuCePytTcnCaNn7JaxcBENXOGUiy-2FKbZYS8rQa26iRgPlyo-2BGmfsRObCRHxdJcoDBhNR592MJFbTwGqFcCeh9rB7L-2B4TpbrHqojpOpU55tjx4rCRvqkBieS3sK7Nyh3YDwr9d0QxdMxoITGt-2FaAzPlK2DsK5nZ6edM1s-2BnQl0yJVZGVudEK9pO1W1ytOzG03pB5JgugAAD3V6Ubz-2FNCFl9jdlejPqZVNHCWi5E5R7ocfspFusHOtxt8aSkiIp0xEc0TWMr-2FbyJ99a2pXt-2FgkCr0UA-2BW&amp\;data=04%7C01%7Cmhong%40amcham.com.sg%7C5feec3a2f3324781ac0e08d8c1083685%7C85952428dca0453591ecbb46fd169233%7C0%7C0%7C637471588300203166%7CUnknown%7CTWFpbGZsb3d8eyJWIjoiMC4wLjAwMDAiLCJQIjoiV2luMzIiLCJBTiI6Ik1haWwiLCJXVCI6Mn0%3D%7C1000&amp\;sdata=V9cVCBrXdCxYta6hXvCzW33vMxnZINYZZrBxwBqZk%2Fg%3D&amp\;reserved=0" target="_blank" title="AmChamREPRESENT Awards 2021">AmChamREPRESENT Awards 2021</a>. Applications close&nbsp\;February 1\, 2021.<br />\n&nbsp\;<br />\nHave questions? Please email AmCham Singapore <a href="mailto:aap@amcham.com.sg" target="_blank" title="us">here</a>.</p>\n
LOCATION:Add location or webinar info
UID:e.3314.1839
SEQUENCE:3
DTSTAMP:20260422T062621Z
URL:https://connect.amchamthailand.com/events/details/amchams-of-asia-pacific-aap-summit-2021-1839
END:VEVENT

END:VCALENDAR
