BEGIN:VCALENDAR
VERSION:2.0
PRODID:-//ChamberMaster//Event Calendar 2.0//EN
METHOD:PUBLISH
X-PUBLISHED-TTL:P3D
REFRESH-INTERVAL:P3D
CALSCALE:GREGORIAN
BEGIN:VEVENT
DTSTART:20220519T110000Z
DTEND:20220521T133000Z
X-MICROSOFT-CDO-ALLDAYEVENT:FALSE
SUMMARY:AmChams of Asia Pacific (AAP) Business Summit 2022
DESCRIPTION:Registration for the AmChams of Asia Pacific (AAP) Business Summit is now open!\n\n\n\nWith 1.5 billion people in the Indo-Pacific region projected to join the middle class this decade\, the market presents significant opportunities for American goods and services. The Indo-Pacific already accounts for 1.75 trillion US dollars in trade with the United States and for 30 percent of US goods and services exports\, supporting millions of American jobs.\n\n\n\nThe AmChams around Indo-Pacific region support deepening the economic and trade engagement in the Indo-Pacific. US trading partners are not waiting as they move ahead with the Regional Comprehensive Economic Partnership (RCEP)\, the Comprehensive and Progressive Trans-Pacific Partnership (CPTPP)\, and the Digital Economy Partnership Agreement.\n\n\n\nThe United States needs a comprehensive initiative in response and the AmChams of Asia Pacific will discuss the Indo-Pacific Economic Framework (IPEF) at its 2022 Business Summit in Hanoi on May 20. The Summit is an annual event hosted by a different AmCham each year from around the region and offers a valuable opportunity to discuss the main issues facing American business in the region along with in-depth examination of specific industry issues of critical importance to AmCham members.\n\n\n\nKey Topics:\n\n\n	Pathways to Enhance Fair and Resilient Trade\n	Addressing Infrastructure Development\, Energy Transition and Climate Change Mitigation\n	Driving Innovation through the Digital and Creative Economy\n	Promoting Sustainable Investment and Supply Chain Resilience\n	Moving from Pandemic to Endemic and Investing in Health as a Driver of Economic Growth\n	Fintech and Financial Services to Promote Regional Economic Recovery\n\nPlease click here for a tentative schedule.\n\nJoin an in-person conversation on May 20 featuring remarks from senior government officials and panel discussions with private sector executives and industry-focused thought leaders on shifting from pandemic to endemic\, regional economic recovery\, and the United States' Asia engagement and its implications for American business.
X-ALT-DESC;FMTTYPE=text/html:<p><span style="font-size:14px\;"><strong>Registration for the&nbsp\;<a href="https://www.amchamhanoi.com/event/2022aap_main/" target="_blank" title="AmChams of Asia Pacific (AAP) Business Summit">AmChams of Asia Pacific (AAP) Business Summit</a>&nbsp\;is now open!</strong></span><br />\n<br />\nWith 1.5 billion people in the Indo-Pacific region projected to join the middle class this decade\, the market presents significant opportunities for American goods and services. The Indo-Pacific already accounts for 1.75 trillion US dollars in trade with the United States and for 30 percent of US goods and services exports\, supporting millions of American jobs.<br />\n<br />\nThe AmChams around Indo-Pacific&nbsp\;region support deepening the&nbsp\;economic and trade engagement in the Indo-Pacific. US trading partners are not waiting as they move ahead with the Regional Comprehensive Economic Partnership (RCEP)\, the Comprehensive and Progressive Trans-Pacific Partnership (CPTPP)\, and the Digital Economy Partnership Agreement.<br />\n<br />\nThe United States needs a comprehensive initiative in response and the AmChams of Asia Pacific will discuss the Indo-Pacific Economic Framework (IPEF) at its 2022 Business Summit in Hanoi on May 20. The Summit is an annual event hosted by a different AmCham each year from around the region and offers a valuable opportunity to discuss the main issues facing American business in the region along with in-depth examination of specific industry issues of critical importance to AmCham members.<br />\n<br />\nKey Topics:</p>\n\n<ul>\n	<li>Pathways to Enhance Fair and Resilient Trade</li>\n	<li>Addressing Infrastructure Development\, Energy Transition and Climate Change Mitigation</li>\n	<li>Driving Innovation through the Digital and Creative Economy</li>\n	<li>Promoting Sustainable Investment and Supply Chain Resilience</li>\n	<li>Moving from Pandemic to Endemic and Investing in Health as a Driver of Economic Growth</li>\n	<li>Fintech and Financial Services to Promote Regional Economic Recovery</li>\n</ul>\n<strong><a href="https://www.amchamthailand.com/wp-content/uploads/2022/04/AAP-Summit-AGENDA.pdf">Please click here for a tentative schedule.</a></strong>\n\n<p>Join&nbsp\;an in-person conversation on May 20 featuring remarks from senior government officials and panel discussions with private sector executives and industry-focused thought leaders on shifting from pandemic to endemic\, regional economic recovery\, and the United States&rsquo\; Asia engagement and its implications for American business.<br />\n<br />\n&nbsp\;</p>\n
LOCATION:Hanoi\, Vietnam
UID:e.3314.2198
SEQUENCE:3
DTSTAMP:20260421T015117Z
URL:https://connect.amchamthailand.com/events/details/amchams-of-asia-pacific-aap-business-summit-2022-2198
END:VEVENT

END:VCALENDAR
