BEGIN:VCALENDAR
VERSION:2.0
PRODID:-//ChamberMaster//Event Calendar 2.0//EN
METHOD:PUBLISH
X-PUBLISHED-TTL:P3D
REFRESH-INTERVAL:P3D
CALSCALE:GREGORIAN
BEGIN:VEVENT
DTSTART:20210617T070000Z
DTEND:20210617T083000Z
X-MICROSOFT-CDO-ALLDAYEVENT:FALSE
SUMMARY:AMCHAM Women: Advocating Real Change
DESCRIPTION:Advocating for women makes for good business. Join us to hear and learn from effective managers who create an environment of inclusivity for both women and men. Find out where to start and why it's important that we enable and empower the men and women in our lives to be an active part of this change.\n\n\n\nOur Speakers:\n\nProfessor Chandra-nuj Mahakanjana\, Graduate School of Public Administration\, \n\nNational Institute of Development Administration (GSPA-NIDA)\n\n\n\nProfessor Jessica Vechbanyongratana\, Faculty of Economics\, Chulalongkorn University. \n\nProfessor Jessica Vechbanyongratana is a Thai-American labor economist who is currently an assistant professor in the Faculty of Economics\, Chulalongkorn University. For the past 11 years she has taught and advised Chulalongkorn University students from the bachelor to doctoral levels. \n\n\n\nTibor Pandi\, Country Head\, Citibank N.A.\,\n\nTibor Pandi is the Country Head and Citi Country Officer of Citi Thailand starting September 1\, 2017. He also oversees Citi's business activity in Cambodia\, Laos and Myanmar. Prior to joining Citi\, he worked in a number of functions with ABN AMRO Bank in Hungary and Netherlands. Tibor has over 22 years of experience in corporate and retail banking and holds a degree from the Budapest Corvinus University.\n\n\n\nJeff Lehrmann\, Managing Director\, Chevron Thailand Exploration & Production\, Ltd.\n\nJeff Lehrmann is the managing director of the Asia South Business Unit\, a position he assumed in April 2019. As managing director\, he is responsible for upstream operations in four countries: Bangladesh\, China\, Myanmar and Thailand. Jeff was an executive director of Sumatra Operations in Indonesia Business Unit\, the position he assumed in 2015. From 2010 to 2015\, he served as president of Chevron Canada.\n\n\n\nModerator: Ornkanya (Mook) Pibuldham\, Country Manager\, Bank of America.
X-ALT-DESC;FMTTYPE=text/html:Advocating for women makes for good business. Join us to hear and learn from effective managers who create an&nbsp\;environment of inclusivity for both women and men. Find out where to start and why it&#39\;s important that we enable and empower the men and women in our lives to be&nbsp\;an active part of this change.<br />\n<br />\nOur Speakers:<br />\nProfessor Chandra-nuj Mahakanjana\,&nbsp\;Graduate School of Public Administration\,&nbsp\;<br />\nNational Institute of Development Administration (GSPA-NIDA)<br />\n<br />\nProfessor Jessica Vechbanyongratana\,&nbsp\;Faculty of Economics\, Chulalongkorn University.&nbsp\;<br />\nProfessor Jessica Vechbanyongratana&nbsp\;is a Thai-American labor economist who is currently an assistant professor in the Faculty of Economics\, Chulalongkorn University. For the past 11 years she has taught and advised Chulalongkorn University students from the bachelor to doctoral levels.&nbsp\;<br />\n<br />\n<a href="https://www.linkedin.com/in/tibor-p%C3%A1ndi-18536/">Tibor Pandi</a>\,&nbsp\;Country Head\, Citibank N.A.\,<br />\nTibor Pandi is the Country Head and Citi Country Officer of Citi Thailand starting September 1\, 2017. He also oversees Citi&rsquo\;s business activity in Cambodia\, Laos and Myanmar.&nbsp\;Prior to joining Citi\, he worked in a number of functions with ABN AMRO Bank in Hungary and Netherlands. Tibor has over 22 years of experience in corporate and retail banking and holds a degree from the Budapest Corvinus University.<br />\n<br />\n<a href="https://www.linkedin.com/in/jeff-lehrmann-1817a332/">Jeff Lehrma</a><a href="http://www.linkedin.com/in/jeff-lehrmann-1817a332/">nn</a>\, Managing Director\, Chevron Thailand Exploration &amp\; Production\, Ltd.<br />\nJeff Lehrmann is the managing director of the Asia South Business Unit\, a position he assumed in April 2019. As managing director\, he is responsible for upstream operations in four countries: Bangladesh\, China\, Myanmar and Thailand. Jeff was an executive director of Sumatra Operations in Indonesia Business Unit\, the position he assumed in 2015. From 2010 to 2015\, he served as president of Chevron Canada.<br />\n<br />\nModerator: Ornkanya (Mook) Pibuldham\, Country Manager\, Bank of America.
LOCATION:Online Webinar
UID:e.3314.1878
SEQUENCE:3
DTSTAMP:20260420T160314Z
URL:https://connect.amchamthailand.com/events/details/amcham-women-advocating-real-change-1878
END:VEVENT

END:VCALENDAR
