BEGIN:VCALENDAR
VERSION:2.0
PRODID:-//ChamberMaster//Event Calendar 2.0//EN
METHOD:PUBLISH
X-PUBLISHED-TTL:P3D
REFRESH-INTERVAL:P3D
CALSCALE:GREGORIAN
BEGIN:VEVENT
DTSTART:20190905T073000Z
DTEND:20190905T120000Z
X-MICROSOFT-CDO-ALLDAYEVENT:FALSE
SUMMARY:AMCHAM Partnered Event with STR Global Singapore: Hotel and Hotel Residences Market Outlook for Greater Pattaya
DESCRIPTION:REGISTRATION EXTENDED THROUGH SEPTEMBER 4\n\n\n\nJoin the AMCHAM Thailand partnered event with STR Global Singapore for a knowledge and information session on the hotel and hotel residences markets and outlook in greater Pattaya including the EEC for its September 2019 meeting.\n\n \n\nThis hotel business meeting will cover the projected demand of the Eastern Economic Corridor and opportunities for the Pattaya hotel market\, compare the growth performance of similar coastline destinations in Southeast Asia and dive into Pattaya's supply and demand over the last 12 months.\n\nThere will also be a round of insightful discussions on the growing appeal of Hotel Residences Model and the complexities of condominium hotels in Thailand.  \n\n \n\nAgenda:\n\n2:30 - 3:00 pm          Registration\n\n \n\n3:00 - 3:05 pm          Welcome Note & Chamber Tourism Updates\, Charles Blocker\, Co-Chair AMCHAM\n\n                                 Travel & Tourism Committee\n\n \n\n3:05 - 3:10 pm          Introduction by Bill Barnett\, C9 Hotelworks\n\n \n\n3:10 - 3:40 pm          Deep Dive into Pattaya's Performance in Comparison to Similar Coastline \n\n                                 Destinations in Southeast Asia \n\n                                 Fenady Uriarte\, SEA Business Development Manager\, STR\n\n \n\n3:50 - 4:20 pm          EEC Opportunities and Profitability update for Pattaya hotels and similar markets in\n\n                                 Southeast Asia\n\n                                 Nikhom Jensiriratanakorn\, Director\, Horwath Thailand\n\n \n\n4:30 - 5:10 pm          Thailand's Hotel Residences Panel Discussion\n\n                                 Moderator: Bill Barnett\, Managing Director\, C9 Hotelworks\n\n                                 Panelists:\n\n                                    - Serena Lim - Vice-President\, Development\, South East Asia and Korea\, \n\n                                       InterContinental Hotels Group (IHG)\n\n                                    - Papon Kanungvanichakul - Senior Associate\, Baker McKenzie Thailand\n\n                                    - Brennan Campbell - Chief Executive Officer\, FazWaz Property Group\n\n \n\n5:10 - 5:30 pm          Q&A\n\n                                 Charles Blocker\, Co-Chair AMCHAM Travel & Tourism Committee\n\n \n\n5:30 - 7:00 pm          Networking Cocktails (Cash Bar)\n\n \n\nRegistration is mandatory\n\n\n\nSpecial room rate of 3\,600 Baht available to event attendees (rates are net\, inclusive of tax\, service charge and breakfast.  Reserve your room here.
X-ALT-DESC;FMTTYPE=text/html:<p><strong><span style="color: rgb(255\, 0\, 0)\;">REGISTRATION EXTENDED THROUGH SEPTEMBER 4</span></strong><br />\n<br />\nJoin the AMCHAM Thailand partnered event with STR Global Singapore for a knowledge and information session on the hotel and hotel residences markets and outlook in greater Pattaya including the EEC for its September 2019 meeting.<br />\n&nbsp\;<br />\nThis hotel business meeting will cover the projected demand of the Eastern Economic Corridor and opportunities for the Pattaya hotel market\, compare the growth performance of similar coastline destinations in Southeast Asia and dive into Pattaya&rsquo\;s supply and demand over the last 12 months.</p>\n\n<p>There will also be a round of insightful discussions on the growing appeal of Hotel Residences Model and the complexities of condominium&nbsp\;hotels in Thailand.&nbsp\;&nbsp\;<br />\n&nbsp\;<br />\n<strong>Agenda:</strong><br />\n2:30 - 3:00 pm&nbsp\;&nbsp\;&nbsp\;&nbsp\;&nbsp\;&nbsp\;&nbsp\;&nbsp\;&nbsp\; Registration<br />\n&nbsp\;<br />\n3:00 - 3:05 pm&nbsp\;&nbsp\;&nbsp\;&nbsp\;&nbsp\;&nbsp\;&nbsp\;&nbsp\;&nbsp\; Welcome Note &amp\; Chamber Tourism Updates\, Charles Blocker\, Co-Chair AMCHAM<br />\n&nbsp\;&nbsp\;&nbsp\;&nbsp\;&nbsp\;&nbsp\;&nbsp\;&nbsp\;&nbsp\;&nbsp\;&nbsp\;&nbsp\;&nbsp\;&nbsp\;&nbsp\;&nbsp\;&nbsp\;&nbsp\;&nbsp\;&nbsp\;&nbsp\;&nbsp\;&nbsp\;&nbsp\;&nbsp\;&nbsp\;&nbsp\;&nbsp\;&nbsp\;&nbsp\;&nbsp\;&nbsp\; Travel &amp\; Tourism Committee<br />\n&nbsp\;<br />\n3:05&nbsp\;- 3:10 pm&nbsp\;&nbsp\;&nbsp\;&nbsp\;&nbsp\;&nbsp\;&nbsp\;&nbsp\;&nbsp\; Introduction by Bill Barnett\, C9 Hotelworks<br />\n&nbsp\;<br />\n3:10&nbsp\;- 3:40 pm&nbsp\;&nbsp\;&nbsp\;&nbsp\;&nbsp\;&nbsp\;&nbsp\;&nbsp\;&nbsp\; Deep Dive into Pattaya&rsquo\;s Performance in Comparison to Similar Coastline&nbsp\;<br />\n&nbsp\;&nbsp\;&nbsp\;&nbsp\;&nbsp\;&nbsp\;&nbsp\;&nbsp\;&nbsp\;&nbsp\;&nbsp\;&nbsp\;&nbsp\;&nbsp\;&nbsp\;&nbsp\;&nbsp\;&nbsp\;&nbsp\;&nbsp\;&nbsp\;&nbsp\;&nbsp\;&nbsp\;&nbsp\;&nbsp\;&nbsp\;&nbsp\;&nbsp\;&nbsp\;&nbsp\;&nbsp\; Destinations in Southeast Asia&nbsp\;<br />\n&nbsp\;&nbsp\;&nbsp\;&nbsp\;&nbsp\;&nbsp\;&nbsp\;&nbsp\;&nbsp\;&nbsp\;&nbsp\;&nbsp\;&nbsp\;&nbsp\;&nbsp\;&nbsp\;&nbsp\;&nbsp\;&nbsp\;&nbsp\;&nbsp\;&nbsp\;&nbsp\;&nbsp\;&nbsp\;&nbsp\;&nbsp\;&nbsp\;&nbsp\;&nbsp\;&nbsp\;&nbsp\;&nbsp\;Fenady Uriarte\, SEA Business Development Manager\, STR<br />\n&nbsp\;<br />\n3:50 - 4:20&nbsp\;pm&nbsp\;&nbsp\;&nbsp\;&nbsp\;&nbsp\;&nbsp\;&nbsp\;&nbsp\;&nbsp\; EEC Opportunities and Profitability update for Pattaya hotels and similar markets in<br />\n&nbsp\;&nbsp\;&nbsp\;&nbsp\;&nbsp\;&nbsp\;&nbsp\;&nbsp\;&nbsp\;&nbsp\;&nbsp\;&nbsp\;&nbsp\;&nbsp\;&nbsp\;&nbsp\;&nbsp\;&nbsp\;&nbsp\;&nbsp\;&nbsp\;&nbsp\;&nbsp\;&nbsp\;&nbsp\;&nbsp\;&nbsp\;&nbsp\;&nbsp\;&nbsp\;&nbsp\;&nbsp\; Southeast Asia<br />\n&nbsp\;&nbsp\;&nbsp\;&nbsp\;&nbsp\;&nbsp\;&nbsp\;&nbsp\;&nbsp\;&nbsp\;&nbsp\;&nbsp\;&nbsp\;&nbsp\;&nbsp\;&nbsp\;&nbsp\;&nbsp\;&nbsp\;&nbsp\;&nbsp\;&nbsp\;&nbsp\;&nbsp\;&nbsp\;&nbsp\;&nbsp\;&nbsp\;&nbsp\;&nbsp\;&nbsp\;&nbsp\; Nikhom Jensiriratanakorn\, Director\, Horwath Thailand<br />\n&nbsp\;<br />\n4:30 - 5:10&nbsp\;pm&nbsp\;&nbsp\;&nbsp\;&nbsp\;&nbsp\;&nbsp\;&nbsp\;&nbsp\;&nbsp\; Thailand&rsquo\;s Hotel Residences Panel Discussion<br />\n&nbsp\;&nbsp\;&nbsp\;&nbsp\;&nbsp\;&nbsp\;&nbsp\;&nbsp\;&nbsp\;&nbsp\;&nbsp\;&nbsp\;&nbsp\;&nbsp\;&nbsp\;&nbsp\;&nbsp\;&nbsp\;&nbsp\;&nbsp\;&nbsp\;&nbsp\;&nbsp\;&nbsp\;&nbsp\;&nbsp\;&nbsp\;&nbsp\;&nbsp\;&nbsp\;&nbsp\;&nbsp\;&nbsp\;Moderator: Bill Barnett\, Managing Director\, C9 Hotelworks<br />\n&nbsp\;&nbsp\;&nbsp\;&nbsp\;&nbsp\;&nbsp\;&nbsp\;&nbsp\;&nbsp\;&nbsp\;&nbsp\;&nbsp\;&nbsp\;&nbsp\;&nbsp\;&nbsp\;&nbsp\;&nbsp\;&nbsp\;&nbsp\;&nbsp\;&nbsp\;&nbsp\;&nbsp\;&nbsp\;&nbsp\;&nbsp\;&nbsp\;&nbsp\;&nbsp\;&nbsp\;&nbsp\; Panelists:<br />\n&nbsp\;&nbsp\;&nbsp\;&nbsp\;&nbsp\;&nbsp\;&nbsp\;&nbsp\;&nbsp\;&nbsp\;&nbsp\;&nbsp\;&nbsp\;&nbsp\;&nbsp\;&nbsp\;&nbsp\;&nbsp\;&nbsp\;&nbsp\;&nbsp\;&nbsp\;&nbsp\;&nbsp\;&nbsp\;&nbsp\;&nbsp\;&nbsp\;&nbsp\;&nbsp\;&nbsp\;&nbsp\;&nbsp\;&nbsp\;&nbsp\; - Serena Lim - Vice-President\, Development\, South East Asia and Korea\,&nbsp\;<br />\n&nbsp\;&nbsp\;&nbsp\;&nbsp\;&nbsp\;&nbsp\;&nbsp\;&nbsp\;&nbsp\;&nbsp\;&nbsp\;&nbsp\;&nbsp\;&nbsp\;&nbsp\;&nbsp\;&nbsp\;&nbsp\;&nbsp\;&nbsp\;&nbsp\;&nbsp\;&nbsp\;&nbsp\;&nbsp\;&nbsp\;&nbsp\;&nbsp\;&nbsp\;&nbsp\;&nbsp\;&nbsp\;&nbsp\;&nbsp\;&nbsp\;&nbsp\;&nbsp\;&nbsp\; InterContinental Hotels Group (IHG)<br />\n&nbsp\;&nbsp\;&nbsp\;&nbsp\;&nbsp\;&nbsp\;&nbsp\;&nbsp\;&nbsp\;&nbsp\;&nbsp\;&nbsp\;&nbsp\;&nbsp\;&nbsp\;&nbsp\;&nbsp\;&nbsp\;&nbsp\;&nbsp\;&nbsp\;&nbsp\;&nbsp\;&nbsp\;&nbsp\;&nbsp\;&nbsp\;&nbsp\;&nbsp\;&nbsp\;&nbsp\;&nbsp\;&nbsp\;&nbsp\;&nbsp\;&nbsp\;- Papon Kanungvanichakul - Senior Associate\, Baker McKenzie Thailand<br />\n&nbsp\;&nbsp\;&nbsp\;&nbsp\;&nbsp\;&nbsp\;&nbsp\;&nbsp\;&nbsp\;&nbsp\;&nbsp\;&nbsp\;&nbsp\;&nbsp\;&nbsp\;&nbsp\;&nbsp\;&nbsp\;&nbsp\;&nbsp\;&nbsp\;&nbsp\;&nbsp\;&nbsp\;&nbsp\;&nbsp\;&nbsp\;&nbsp\;&nbsp\;&nbsp\;&nbsp\;&nbsp\;&nbsp\;&nbsp\;&nbsp\;&nbsp\;- Brennan Campbell - Chief Executive Officer\, FazWaz Property Group<br />\n&nbsp\;<br />\n5:10 - 5:30 pm&nbsp\;&nbsp\;&nbsp\;&nbsp\;&nbsp\;&nbsp\;&nbsp\;&nbsp\;&nbsp\;&nbsp\;Q&amp\;A<br />\n&nbsp\;&nbsp\;&nbsp\;&nbsp\;&nbsp\;&nbsp\;&nbsp\;&nbsp\;&nbsp\;&nbsp\;&nbsp\;&nbsp\;&nbsp\;&nbsp\;&nbsp\;&nbsp\;&nbsp\;&nbsp\;&nbsp\;&nbsp\;&nbsp\;&nbsp\;&nbsp\;&nbsp\;&nbsp\;&nbsp\;&nbsp\;&nbsp\;&nbsp\;&nbsp\;&nbsp\;&nbsp\;&nbsp\;Charles Blocker\, Co-Chair AMCHAM Travel &amp\; Tourism Committee<br />\n&nbsp\;<br />\n5:30 - 7:00 pm&nbsp\;&nbsp\;&nbsp\;&nbsp\;&nbsp\;&nbsp\;&nbsp\;&nbsp\;&nbsp\;&nbsp\;Networking Cocktails (Cash Bar)<br />\n&nbsp\;<br />\n<strong>Registration is mandatory</strong><br />\n<br />\nSpecial room rate of 3\,600 Baht available to event attendees (rates are net\, inclusive of tax\, service charge and breakfast.&nbsp\; <a href="https://www.holidayinn.com/redirect?path=hd&amp\;brandCode=HI&amp\;localeCode=en&amp\;regionCode=1&amp\;hotelCode=PYXPA&amp\;_PMID=99801505&amp\;GPC=AWS&amp\;cn=no&amp\;viewfullsite=true">Reserve your room here.</a><br />\n&nbsp\;</p>\n
LOCATION:Location: Holiday Inn Pattaya
UID:e.3314.377
SEQUENCE:3
DTSTAMP:20260421T020046Z
URL:https://connect.amchamthailand.com/events/details/amcham-partnered-event-with-str-global-singapore-hotel-and-hotel-residences-market-outlook-for-greater-pattaya-377
END:VEVENT

END:VCALENDAR
