BEGIN:VCALENDAR
VERSION:2.0
PRODID:-//ChamberMaster//Event Calendar 2.0//EN
METHOD:PUBLISH
X-PUBLISHED-TTL:P3D
REFRESH-INTERVAL:P3D
CALSCALE:GREGORIAN
BEGIN:VEVENT
DTSTART:20190818T050000Z
DTEND:20190818T050000Z
X-MICROSOFT-CDO-ALLDAYEVENT:FALSE
SUMMARY:AMCHAM/FedEx Career Camp\, 18-21 August
DESCRIPTION:Career camp for graduating AMCHAM scholarship students\n\n18 August - Ice-Breaker Dinner @ Anantara Sathorn\n\n19 August - Career Workshops @ AIA Training Center\n\n                   - Career Night panel @ Anantara Sathorn\n\n20 August  - AMCHAM Member company site visits\n\n21 August  - Mock HR Interviews @ AIA Training Center \n\n                   - Certificate presentation \n\n\n\nIf you would like more information on how to become involved in the AMCHAM Foundation Scholarship Program please contact sheree@amchamthailand.com.
X-ALT-DESC;FMTTYPE=text/html:Career camp for graduating AMCHAM scholarship students<br />\n18 August - Ice-Breaker Dinner @ Anantara Sathorn<br />\n19 August - Career Workshops @ AIA Training Center<br />\n&nbsp\; &nbsp\; &nbsp\; &nbsp\; &nbsp\; &nbsp\; &nbsp\; &nbsp\; &nbsp\; &nbsp\;- Career Night panel @ Anantara Sathorn<br />\n20 August&nbsp\; - AMCHAM Member company site visits<br />\n21 August&nbsp\; - Mock HR Interviews @ AIA Training Center&nbsp\;<br />\n&nbsp\; &nbsp\; &nbsp\; &nbsp\; &nbsp\; &nbsp\; &nbsp\; &nbsp\; &nbsp\; &nbsp\;- Certificate presentation&nbsp\;<br />\n<br />\nIf you would like more information on how to become involved in the AMCHAM Foundation Scholarship Program please contact sheree@amchamthailand.com.
LOCATION:Various
UID:e.3314.325
SEQUENCE:3
DTSTAMP:20260423T115319Z
URL:https://connect.amchamthailand.com/events/details/amcham-fedex-career-camp-18-21-august-325
END:VEVENT

END:VCALENDAR
