BEGIN:VCALENDAR
VERSION:2.0
PRODID:-//ChamberMaster//Event Calendar 2.0//EN
METHOD:PUBLISH
X-PUBLISHED-TTL:P3D
REFRESH-INTERVAL:P3D
CALSCALE:GREGORIAN
BEGIN:VEVENT
DTSTART:20200115T110000Z
DTEND:20200115T133000Z
X-MICROSOFT-CDO-ALLDAYEVENT:FALSE
SUMMARY:AMCHAM Escapades: Journey on the Chao Phraya
DESCRIPTION:AMCHAM is delighted to launch our new AMCHAM Escapades series. Come with us on a voyage of authentic discovery of Bangkok as you build new business connections in our stylish\, exclusive and adventurous networking series. \n\n \n\nFirst up in the series is the Manohra Cruise along the historic Chao Phraya River. Step aboard a beautifully restored antique rice barge for a tour past famous royal sites\, exquisite temples\, and striking modern landmarks all the while networking with fellow AMCHAM members.\n\n \n\nThis networking event is open to AMCHAM members only. Bring your spouse along on a unique dining experience as you cruise through this new adventure with us!\n\n \n\nEntrance fee includes a selection of mouth-watering foods\, and free-flow wine and beer.\n\n \n\nThe cruise will leave the dock at 6:45 pm. Please arrive by 6 pm for event registration and light networking.
X-ALT-DESC;FMTTYPE=text/html:<p>AMCHAM is delighted to launch our new&nbsp\;AMCHAM Escapades series.&nbsp\;Come with us on a&nbsp\;voyage of authentic discovery of Bangkok as you build new business connections in our stylish\, exclusive and adventurous networking series.&nbsp\;<br />\n&nbsp\;<br />\nFirst up in the&nbsp\;series is&nbsp\;the Manohra Cruise along the historic Chao Phraya River. Step aboard a beautifully restored antique rice barge for a tour past famous royal sites\, exquisite temples\, and striking modern landmarks all the while networking with fellow AMCHAM members.<br />\n&nbsp\;<br />\nThis networking event is open to AMCHAM members only. Bring your spouse along on a&nbsp\;unique dining experience as you cruise through this new adventure with us!<br />\n&nbsp\;<br />\nEntrance fee includes a selection of mouth-watering foods\, and free-flow wine and beer.<br />\n&nbsp\;<br />\nThe cruise will leave the dock at 6:45 pm. Please arrive by 6 pm for event registration and light networking.<br />\n&nbsp\;</p>\n
LOCATION:Manohra River Cruises Pick up & drop off at Anantara Riverside Bangkok Resort pier Venue: Manohra Star
UID:e.3314.485
SEQUENCE:3
DTSTAMP:20260423T054449Z
URL:https://connect.amchamthailand.com/events/details/amcham-escapades-journey-on-the-chao-phraya-485
END:VEVENT

END:VCALENDAR
