BEGIN:VCALENDAR
VERSION:2.0
PRODID:-//ChamberMaster//Event Calendar 2.0//EN
METHOD:PUBLISH
X-PUBLISHED-TTL:P3D
REFRESH-INTERVAL:P3D
CALSCALE:GREGORIAN
BEGIN:VEVENT
DTSTART:20210120T110000Z
DTEND:20200901T133000Z
X-MICROSOFT-CDO-ALLDAYEVENT:FALSE
SUMMARY:AMCHAM Escapades and the Mystery in the Library
DESCRIPTION:AMCHAM is delighted to bring you the second chapter of AMCHAM Escapades\, our exclusive and adventurous networking series. Don't miss this evening of excitement\, a thrilling case of the mystery in the library in the midst of networking with fellow AMCHAM members. Put on your detective hat as you explore this Sherlock Holmes kind of venue and solve the mystery with your colleagues.\n\n \n\nThis networking event is open to AMCHAM members only. Bring your spouse or colleague along for an exciting and interactive evening featuring a selection of mouth-watering foods\, free-flow wine and beer.
X-ALT-DESC;FMTTYPE=text/html:AMCHAM is delighted to bring you the second chapter of AMCHAM Escapades\, our&nbsp\;exclusive and adventurous networking series. Don&#39\;t miss this&nbsp\;evening of excitement\, a thrilling case of the mystery in the library&nbsp\;in the midst of networking with fellow AMCHAM members. Put on your detective hat as you explore this Sherlock Holmes kind of venue and solve the mystery with your colleagues.<br background-color:="" color:="" font-size:="" open="" />\n&nbsp\;<br background-color:="" color:="" font-size:="" open="" />\nThis networking event is open to AMCHAM members only. Bring your spouse or colleague along for an exciting and interactive evening featuring a selection of mouth-watering foods\, free-flow wine and beer.&nbsp\;<br background-color:="" color:="" font-size:="" open="" />\n&nbsp\;<br background-color:="" color:="" font-size:="" open="" />\n&nbsp\;<br background-color:="" color:="" font-size:="" open="" />\n&nbsp\;
LOCATION:Hotel Indigo\, 22Steps Bar 81 Wireless Road BTS Ploenchit If you are driving please note that Hotel Indigo has limited parking. There are 3 Elevators for parking (90 cars). Cars must not high over 1.5 metres. In additional Hotel Indigo has reserved parking space at the Athenee Tower. Please bring your parking slip for stamp Hotel Indigo which will enable you to park with no charge.
UID:e.3314.1526
SEQUENCE:3
DTSTAMP:20260423T060413Z
URL:https://connect.amchamthailand.com/events/details/amcham-escapades-and-the-mystery-in-the-library-1526
END:VEVENT

END:VCALENDAR
