BEGIN:VCALENDAR
VERSION:2.0
PRODID:-//ChamberMaster//Event Calendar 2.0//EN
METHOD:PUBLISH
X-PUBLISHED-TTL:P3D
REFRESH-INTERVAL:P3D
CALSCALE:GREGORIAN
BEGIN:VEVENT
DTSTART:20221111T040000Z
DTEND:20221111T100000Z
X-MICROSOFT-CDO-ALLDAYEVENT:FALSE
SUMMARY:AMCHAM ChariTee Golf Tournament 2022
DESCRIPTION:Please join us at the AMATA Spring Country Club for the AMCHAM ChariTee Golf Tournament 2022! \n\n\n\nThis highly anticipated annual event is an opportunity for AMCHAM member executives to connect and test their golf game at one of Thailand's premier courses. All proceeds benefit the AMCHAM Thailand Foundation (ATF) scholarship program\, sending deserving\, financially disadvantaged Thai students to university.\n\n\n	\n		\n			Eligibility:\n			First 108 entries received with payment. You may enter as a team of 4\, or we will assign players onto teams who sign up individually. \n		\n		\n			Booking Deadline:\n			October 25\, 2022\n		\n		\n			Format:\n			The event format will be System 36 Stableford\, an on-the-day handicap system which will calculate players handicaps from their score on the day. See link for more information on the System 36 Stableford system\n		\n		\n			Prizes:\n			- Team Event (System 36) - calculated from the best two Stableford scores per hole.\n\n			- Men Individual Event (System 36)\n\n			- Ladies Individual Event (System 36)\n		\n	\n\n\nTHANK YOU TO OUR SPONSORS: AMATA\, AGODA\, C.P. GROUP\, CHEVRON\, CITI\, CONSTANT ENERGY\, GRIFFITH FOODS\, ISB\, MASTERCARD\, PEPSICO. RMA GROUP\, TRIUMPH AVIATION SERVICES ASIA\, TYSON FOODS\, AND WESTERN DIGITAL for their generous support of the AMCHAM Thailand Foundation scholarship program.
X-ALT-DESC;FMTTYPE=text/html:<p>Please join us at the AMATA Spring Country Club for the AMCHAM ChariTee Golf Tournament 2022!&nbsp\;<br />\n<br />\nThis highly&nbsp\;anticipated&nbsp\;annual event is an opportunity for AMCHAM member executives to connect and test their golf game at one of Thailand&#39\;s premier courses. All proceeds benefit the&nbsp\;<a href="https://www.amchamthailand.com/foundation/" target="_blank">AMCHAM Thailand Foundation</a>&nbsp\;(ATF)&nbsp\;scholarship program\, sending&nbsp\;deserving\, financially disadvantaged Thai students to university.</p>\n\n<table align="center" border="0" cellpadding="1" cellspacing="1" style="width:800px\;">\n	<tbody>\n		<tr>\n			<td><em>Eligibility:</em></td>\n			<td>First 108&nbsp\;entries&nbsp\;received with payment. You may enter as a team of 4\, or we will assign players onto teams who sign up individually.&nbsp\;</td>\n		</tr>\n		<tr>\n			<td><em>Booking Deadline:</em></td>\n			<td>October 25\, 2022</td>\n		</tr>\n		<tr>\n			<td><em>Format:</em></td>\n			<td>The event format will be System 36 Stableford\, an on-the-day handicap system which will calculate players handicaps from their score on the day. See link for more information on the&nbsp\;<a href="https://www.liveabout.com/how-the-system-36-handicap-formula-works-1564275">System 36 Stableford system</a></td>\n		</tr>\n		<tr>\n			<td><em>Prizes:</em></td>\n			<td>- Team Event (System 36) - calculated from the best two Stableford scores per hole.<br />\n			- Men&nbsp\;Individual Event (System 36)<br />\n			- Ladies&nbsp\;Individual Event (System 36)</td>\n		</tr>\n	</tbody>\n</table>\n\n<p><strong>THANK YOU TO OUR SPONSORS: AMATA\, AGODA\, C.P. GROUP\, CHEVRON\, CITI\, CONSTANT ENERGY\, GRIFFITH FOODS\, ISB\, MASTERCARD\,&nbsp\;PEPSICO</strong>.<strong> RMA GROUP\, TRIUMPH AVIATION SERVICES ASIA\, TYSON FOODS\, AND WESTERN DIGITAL</strong> for their generous support of the AMCHAM Thailand Foundation scholarship program.</p>\n
LOCATION:
UID:e.3314.2262
SEQUENCE:3
DTSTAMP:20260420T141817Z
URL:https://connect.amchamthailand.com/events/details/amcham-charitee-golf-tournament-2022-2262
END:VEVENT

END:VCALENDAR
