BEGIN:VCALENDAR
VERSION:2.0
PRODID:-//ChamberMaster//Event Calendar 2.0//EN
METHOD:PUBLISH
X-PUBLISHED-TTL:P3D
REFRESH-INTERVAL:P3D
CALSCALE:GREGORIAN
BEGIN:VEVENT
DTSTART:20210609T030000Z
DTEND:20210609T033000Z
X-MICROSOFT-CDO-ALLDAYEVENT:FALSE
SUMMARY:AMCHAM Business Today Videoconference
DESCRIPTION:Join AMCHAM Business Today roundtable videoconference for a member-to-member conversation with the AMCHAM membership\, the Board of Governors and other leaders in Thailand's premier business community. This brisk 30-minute session will be led by Heidi Gallant\, AMCHAM Executive Director and will be a chance for members to connect with their peers online and discuss daily developments affecting our business. \nThe Executive Director will start with a recap of the key events of the day\, but then open the forum to participating members so you can learn what your fellow businesses are doing in response to the new wave of Covid-19 outbreak in Thailand. Example topics might include: government stimulus packages\, travel restrictions\, work from home resources\, new visa and work permit processes for expats returning to Thailand\, health and safety for employees\, and ease of doing business.\n\n\nYou will receive an invitation with link to join the video conference by COB on the day prior to the meeting.
X-ALT-DESC;FMTTYPE=text/html:<span style="font-size: 14px\;"><span style="font-family: arial\;">Join AMCHAM Business Today roundtable videoconference for a member-to-member conversation with the AMCHAM membership\, the Board of Governors and other leaders in Thailand&#39\;s premier business community. This brisk 30-minute session will be led by Heidi Gallant\, AMCHAM Executive Director and will be&nbsp\;a chance for members to connect with their peers online and discuss daily developments affecting our business.&nbsp\;</span></span>\n<div style="box-sizing: border-box\; font-family: &quot\;Segoe UI&quot\;\, system-ui\, &quot\;Apple Color Emoji&quot\;\, &quot\;Segoe UI Emoji&quot\;\, sans-serif\; font-size: 14px\;"><span style="font-family: arial\;">The Executive Director&nbsp\;will start with a recap of the key events of the day\, but then open the forum to participating members so you can learn what your fellow businesses are doing in response to the new wave of Covid-19 outbreak in Thailand. Example topics might include: government stimulus packages\, travel restrictions\, work from home resources\, new visa and work permit processes for expats returning to Thailand\, health and safety for employees\, and ease of doing business.</span></div>\n<br />\n<span style="font-size: 14px\;"><span style="font-family: arial\;">You will receive an invitation with link to join the video conference by COB on the day prior to the meeting.</span></span>
LOCATION:Videoconference Meeting
UID:e.3314.1792
SEQUENCE:3
DTSTAMP:20260420T160246Z
URL:https://connect.amchamthailand.com/events/details/amcham-business-today-videoconference-06-09-2021-1792
END:VEVENT

END:VCALENDAR
