BEGIN:VCALENDAR
VERSION:2.0
PRODID:-//ChamberMaster//Event Calendar 2.0//EN
METHOD:PUBLISH
X-PUBLISHED-TTL:P3D
REFRESH-INTERVAL:P3D
CALSCALE:GREGORIAN
BEGIN:VEVENT
DTSTART:20220707T030000Z
DTEND:20220707T033000Z
X-MICROSOFT-CDO-ALLDAYEVENT:FALSE
SUMMARY:AMCHAM Business Today Video Conference
DESCRIPTION:Join AMCHAM Business Today roundtable Video Conference for a member-to-member conversation with the AMCHAM Leadership and other leaders in Thailand's premier business community. This brisk 30-minute session will be a chance for members to connect with their peers online and discuss daily developments affecting our business.\n\n \n\nThe event kicks off with a recap of key regulatory and business updates\, before opening the floor to members to ask your questions of the day. This is your chance to draw on member expertise and share knowledge on topics ranging from travel and covid updates\, the evolving hybrid workplace\, and employee health and safety\; to ease of doing business\, geopolitics\, and more.
X-ALT-DESC;FMTTYPE=text/html:<p style="box-sizing: border-box\; font-family: &quot\;open sans&quot\;\, sans-serif\; line-height: 1.8em\; margin-bottom: 1rem\; margin-top: 0px\; color: rgb(68\, 68\, 68)\; font-size: 14px\; outline: 0px\;"><span style="background:white\;"><span style="font-family:open sans\,sans-serif\;"><span style="font-size:10.5pt\;">Join AMCHAM Business Today roundtable Video Conference for a member-to-member conversation with the AMCHAM Leadership and other leaders in Thailand&#39\;s premier business community. This brisk 30-minute session will be a chance for members to connect with their peers online and discuss daily developments affecting our business.</span></span></span><br />\n&nbsp\;<br />\n<span style="font-family:open sans\,sans-serif\;"><span style="font-size:10.5pt\;">The event&nbsp\;kicks off with a recap&nbsp\;of&nbsp\;key regulatory and business updates\,&nbsp\;before opening the floor to members to ask your questions of the day. This is your chance to draw on member expertise and share knowledge on topics ranging from travel and covid updates\,&nbsp\;the evolving hybrid workplace\,&nbsp\;and employee health and safety\; to&nbsp\;ease of doing business\, geopolitics\, and more.</span></span></p>\n
LOCATION:Video conference Meeting
UID:e.3314.2025
SEQUENCE:3
DTSTAMP:20260419T163520Z
URL:https://connect.amchamthailand.com/events/details/amcham-business-today-video-conference-2025
END:VEVENT

END:VCALENDAR
