BEGIN:VCALENDAR
VERSION:2.0
PRODID:-//ChamberMaster//Event Calendar 2.0//EN
METHOD:PUBLISH
X-PUBLISHED-TTL:P3D
REFRESH-INTERVAL:P3D
CALSCALE:GREGORIAN
BEGIN:VEVENT
DTSTART:20201111T030000Z
DTEND:20201111T033000Z
X-MICROSOFT-CDO-ALLDAYEVENT:FALSE
SUMMARY:AMCHAM Business Today Video Conference
DESCRIPTION:Join AMCHAM Business Today roundtable videoconference for a member-to-member conversation with the AMCHAM membership\, the Board of Governors and other leaders in Thailand's premier business community. This brisk 30-minute session will be led by Heidi Gallant\, AMCHAM Executive Director and will be a chance for members to connect with their peers online and discuss daily developments affecting our business. The Executive Director will start with a recap of the key events of the day\, but then open the forum to participating members so you can learn what your fellow businesses are doing in response. Example topics might include: government stimulus packages\, return to business\, new visa and work permit processes for expats returning to Thailand\, health and safety for employees\, and ease of doing business post Covid-19.\n\n\n\nYou will receive an invitation with link to join the video conference by COB on the day prior to the meeting.
X-ALT-DESC;FMTTYPE=text/html:Join AMCHAM Business Today roundtable videoconference for a member-to-member conversation with the AMCHAM membership\, the Board of Governors and other leaders in Thailand&#39\;s premier business community. This brisk 30-minute session will be led by Heidi Gallant\, AMCHAM Executive Director and will be&nbsp\;a chance for members to connect with their peers online and discuss daily developments affecting our business. The Executive Director will start with a recap of the key events of the day\, but then open the forum to participating members so you can learn what your fellow businesses are doing in response. Example topics might include: government stimulus packages\, return to business\, new visa and work permit processes for expats returning to Thailand\, health and safety for employees\, and ease of doing business post Covid-19.<br />\n<br />\nYou will receive an invitation with link to join the video conference by COB on the day prior to the meeting.<br />\n&nbsp\;<br />\n&nbsp\;
LOCATION:Video Conference Meeting
UID:e.3314.1696
SEQUENCE:3
DTSTAMP:20260422T113334Z
URL:https://connect.amchamthailand.com/events/details/amcham-business-today-video-conference-1696
END:VEVENT

END:VCALENDAR
