BEGIN:VCALENDAR
VERSION:2.0
PRODID:-//ChamberMaster//Event Calendar 2.0//EN
METHOD:PUBLISH
X-PUBLISHED-TTL:P3D
REFRESH-INTERVAL:P3D
CALSCALE:GREGORIAN
BEGIN:VEVENT
DTSTART:20220511T070000Z
DTEND:20220511T080000Z
X-MICROSOFT-CDO-ALLDAYEVENT:FALSE
SUMMARY:AMCHAM Academy: Change Management and Business Transformation
DESCRIPTION:For the AMCHAM Academy's first engagement\, Tatum Albertine\, Executive Director of AmCham Myanmar\, will share her thoughts on Change Management and Business Transformation. This event is open to the  AMCHAM Academy cohort only.\n\n\n\n\n\nOur Speaker:\nTatum Albertine is an international business advisor with six years of global leadership experience involving government relations\, policy advocacy\, developing international business partnerships\, and supporting strategic business initiatives. She connects people to resources and translates vision and strategy into operations. Tatum serves as the Executive Director of the American Chamber of Commerce in Myanmar\, where she helps U.S.-based organizations to connect with valuable opportunities in Myanmar and advocates on behalf of AMCHAM members to promote economic prosperity for communities within Myanmar and the U.S. She oversees the operational and programmatic aspects of AMCHAM.
X-ALT-DESC;FMTTYPE=text/html:For the AMCHAM Academy&#39\;s first engagement\, Tatum Albertine\, Executive Director of AmCham Myanmar\, will share her thoughts on Change Management and Business Transformation. This event is open to the&nbsp\; AMCHAM Academy cohort only.<br />\n<br />\n<br />\n<strong>Our Speaker:</strong>\n<p><a href="https://www.linkedin.com/in/tatumalbertine/">Tatum Albertine</a> is an international business advisor with six years of global leadership experience involving government relations\, policy advocacy\, developing international business partnerships\, and supporting strategic business initiatives. She connects people to resources and translates vision and strategy into operations. Tatum serves as the Executive Director of the American Chamber of Commerce in Myanmar\, where she helps U.S.-based organizations to connect with valuable opportunities in Myanmar and advocates on behalf of AMCHAM members to promote economic prosperity for communities within Myanmar and the U.S. She oversees the operational and programmatic aspects of AMCHAM.</p>\n\n<p>&nbsp\;</p>\n
LOCATION:Video conference
UID:e.3314.2203
SEQUENCE:3
DTSTAMP:20260421T013437Z
URL:https://connect.amchamthailand.com/events/details/amcham-academy-change-management-and-business-transformation-2203
END:VEVENT

END:VCALENDAR
