BEGIN:VCALENDAR
VERSION:2.0
PRODID:-//ChamberMaster//Event Calendar 2.0//EN
METHOD:PUBLISH
X-PUBLISHED-TTL:P3D
REFRESH-INTERVAL:P3D
CALSCALE:GREGORIAN
BEGIN:VEVENT
DTSTART:20200118T003000Z
DTEND:20200118T070000Z
X-MICROSOFT-CDO-ALLDAYEVENT:FALSE
SUMMARY:AMCHAM 2020 Strategy Session
DESCRIPTION:2019/2020 Board of Governors and Committee Roundup and 2020 Strategy Session.  This session is by invitation only to Board Governors and Committee Leaders.\n\nAgenda\n\n7:30 am   Registration\n\n8:00 am   Meeting\n\n12:30 pm  Lunch\n\n2:00 pm    End
X-ALT-DESC;FMTTYPE=text/html:<p style="color: rgb(51\, 51\, 51)\; font-family: sans-serif\, Arial\, Verdana\, &quot\;Trebuchet MS&quot\;\; font-size: 13px\;">2019/2020&nbsp\;Board of Governors and Committee Roundup and 2020&nbsp\;Strategy Session.&nbsp\; This session is by invitation only to Board Governors and Committee Leaders.</p>\n\n<p style="color: rgb(51\, 51\, 51)\; font-family: sans-serif\, Arial\, Verdana\, &quot\;Trebuchet MS&quot\;\; font-size: 13px\;">Agenda<br />\n7:30 am&nbsp\; &nbsp\;Registration<br />\n8:00 am&nbsp\; &nbsp\;Meeting<br />\n12:30 pm&nbsp\; Lunch<br />\n2:00 pm&nbsp\; &nbsp\; End</p>\n
LOCATION:Centara Grand at Central Plaza Ladprao\, Ladrao 1-4 Room BTS Ladprao / MRT Phaholyothin
UID:e.3314.484
SEQUENCE:3
DTSTAMP:20260423T054221Z
URL:https://connect.amchamthailand.com/events/details/amcham-2020-strategy-session-484
END:VEVENT

END:VCALENDAR
