BEGIN:VCALENDAR
VERSION:2.0
PRODID:-//ChamberMaster//Event Calendar 2.0//EN
METHOD:PUBLISH
X-PUBLISHED-TTL:P3D
REFRESH-INTERVAL:P3D
CALSCALE:GREGORIAN
BEGIN:VEVENT
DTSTART:20200320T050000Z
DTEND:20200320T070000Z
X-MICROSOFT-CDO-ALLDAYEVENT:FALSE
SUMMARY:AGM & Monthly Luncheon (Postponed): Introducing Ambassador Michael George DeSombre
DESCRIPTION:This event has been postponed as a precautionary measure to support public health efforts to minimize the spread of COVID-19. When the rescheduled date is confirmed\, AMCHAM will update that information here.\n\n\n\nAMCHAM is pleased to welcome Ambassador Michael George DeSombre\, as our honored guest speaker at the March Monthly Luncheon. Ambassador DeSombre was confirmed by the United States Senate on January 8\, 2020 as U.S. Ambassador to the Kingdom of Thailand.\n\nAmbassador DeSombre was a partner in the law firm of Sullivan and Cromwell from 2004 to 2019\, where he led their mergers and acquisition practice in Asia.  Ambassador DeSombre has had over two decades of experience representing and negotiating on behalf of American and international clients in large scale investment and economic development projects in Asia.  In this role\, he has gained unique insight into the political\, legal\, and strategic challenges that face American interests in Asia and the Indo-Pacific region.\n\nAmbassador DeSombre graduated from Stanford University with a B.A. in Quantitative Economics and an M.A. in East Asian Studies\, and received his J.D. from Harvard Law School. He is married with four children.\n\nThis event will also serve as the Annual General Meeting for the purposes of approving the 2019 President's report and Audited Financial Statements along with the appointment of the 2020 Auditors.\n\n\n\nSome statements from this event will be kept off the record\, we will advise when portions will be on the record. \n\n\n\nPlease note that no walk-ins will be allowed for this event.
X-ALT-DESC;FMTTYPE=text/html:<p><span style="color:#000080\;"><strong><em>This event has been postponed as a precautionary measure to support public health efforts to minimize the spread of COVID-19. When the rescheduled date is confirmed\, AMCHAM will update that information here.</em></strong></span><br />\n<br />\nAMCHAM is pleased to welcome Ambassador Michael George&nbsp\;DeSombre\,&nbsp\;as our honored guest speaker at the March&nbsp\;Monthly Luncheon.&nbsp\;Ambassador&nbsp\;DeSombre was confirmed by the United States Senate on January 8\, 2020 as U.S. Ambassador to the Kingdom of Thailand.</p>\n\n<p>Ambassador DeSombre was a partner in the law firm of Sullivan and Cromwell from 2004 to 2019\, where he led their mergers and acquisition practice in Asia.&nbsp\; Ambassador DeSombre has had over two decades of experience representing and negotiating on behalf of American and international clients in large scale investment and economic development projects in Asia.&nbsp\; In this role\, he has gained unique insight into the political\, legal\, and strategic challenges that face American interests in Asia and the Indo-Pacific region.</p>\n\n<p>Ambassador DeSombre graduated from Stanford University with a B.A. in Quantitative Economics and an M.A. in East Asian Studies\, and received his J.D. from Harvard Law School. He is married with four children.</p>\n\n<p>This event will also serve as the Annual General Meeting for the purposes of approving the <a href="https://secure2.chambermaster.com/mic/Resources/Download/252?memId=-1&amp\;repId=60085&amp\;micVersion=4">2019&nbsp\;President&#39\;s report</a>&nbsp\;and&nbsp\;<a href="https://secure2.chambermaster.com/mic/Resources/Download/250?memId=-1&amp\;repId=60085&amp\;micVersion=4">Audited Financial Statements</a>&nbsp\;along with the appointment of the 2020&nbsp\;Auditors.<br />\n<br />\nSome statements from this event will be kept off the record\, we will advise when portions will be on the record.&nbsp\;<br />\n<br />\nPlease note that <strong>no walk-ins</strong> will be allowed for this event.&nbsp\;</p>\n
LOCATION:
UID:e.3314.1536
SEQUENCE:3
DTSTAMP:20260423T020850Z
URL:https://connect.amchamthailand.com/events/details/agm-monthly-luncheon-postponed-introducing-ambassador-michael-george-desombre-1536
END:VEVENT

END:VCALENDAR
