BEGIN:VCALENDAR
VERSION:2.0
PRODID:-//ChamberMaster//Event Calendar 2.0//EN
METHOD:PUBLISH
X-PUBLISHED-TTL:P3D
REFRESH-INTERVAL:P3D
CALSCALE:GREGORIAN
BEGIN:VEVENT
DTSTART:20210719T013000Z
DTEND:20210719T023000Z
X-MICROSOFT-CDO-ALLDAYEVENT:FALSE
SUMMARY:Aerospace Council: July 2021 Video Conference
DESCRIPTION:This is an opportunity for aerospace industry members to connect and freely exchange ideas and information. At the meeting\, the council leaders will update on the current industry situation\, followed by a general free flow discussion on the state of the Thai and regional aviation industry. They will also discuss future meeting agendas.
X-ALT-DESC;FMTTYPE=text/html:This is an opportunity for aerospace industry members to connect and freely exchange ideas and information. At the meeting\, the council leaders will update on the current industry situation\, followed by a general free flow discussion on the state of the Thai and regional aviation industry. They&nbsp\;will also discuss future meeting agendas.
LOCATION:Video Conference
UID:e.3314.1953
SEQUENCE:3
DTSTAMP:20260421T211707Z
URL:https://connect.amchamthailand.com/events/details/aerospace-council-july-2021-video-conference-1953
END:VEVENT

END:VCALENDAR
