BEGIN:VCALENDAR
VERSION:2.0
PRODID:-//ChamberMaster//Event Calendar 2.0//EN
METHOD:PUBLISH
X-PUBLISHED-TTL:P3D
REFRESH-INTERVAL:P3D
CALSCALE:GREGORIAN
BEGIN:VEVENT
DTSTART:20210223T070000Z
DTEND:20210223T080000Z
X-MICROSOFT-CDO-ALLDAYEVENT:FALSE
SUMMARY:Aerospace Council: Discussion with the Thai Aerospace Manufacturing Industries Association (TAMIA)
DESCRIPTION:The Thai Aerospace Manufacturing Industries Association (TAMIA) was formed at the beginning of 2020 with a core group of Thai-based aerospace companies that saw a need to organize and support the local industry\, attract support from the Royal Thai Government and the EEC Office\, and promote growth in the industry. \n\n\n\nOur guest speakers - Tatiya Meemeskul\, Managing Director\, Lenso Aerospace and President of TAMIA and Ketan Pole\, CEO\, C.C.S. Group and Vice President of TAMIA - will present on TAMIA's overall objectives and activities\, followed by a Question & Answer session\, and an open discussion with AMCHAM members on key issues of common interest.\n\n\n\nAbout the Speakers\n\n\n\nTatiya Meemeskul is currently the President of Lenso Aerospace Co.\, Ltd. He graduated from the University of Plymouth\, UK with MSc in computer application and Postgraduate Diploma in web technologies and security. He started his career in the automotive industry in Thailand and moved to UK to continue his work. He has 16 years of experience in aerospace manufacturing processes like designing\, prototyping\, machining\, sheet metal fabrication\, composite\, NDT\, chemical processing\, paint and assembly. His past experience includes working in OEM\, defense\, MRO and the space sector.\n\n\n\nKetan Pole is currently the CEO of C.C.S. Advance Tech. CO.\, LTD. and CCS group\, Thailand.\n\nHe has 37 years of experience in manufacturing and has been working in Thailand for the last 29 years\, out of which he spent 24 years working with the CCS group\, Thailand. A qualified mechanical engineer and a business executive\, he has experience in CNC manufacturing for various high technology industries: Precision Direct OEM components for aerospace\, satellite launching space rocket motors\, nuclear power plant component manufacturing\, heavy machinery\, tool and dye\, diesel engine parts manufacturing\, semiconductor front end/back end tooling\, tooling for bearing industries\, oil and gas components manufacturing\, and components for biomedical and automotive industries.
X-ALT-DESC;FMTTYPE=text/html:The Thai Aerospace Manufacturing Industries Association (TAMIA) was formed at the beginning of 2020 with a core group of Thai-based aerospace companies that saw a need to organize and support the local industry\, attract support from the Royal Thai Government and the EEC Office\, and promote growth in the industry.&nbsp\;<br>\n<br>\nOur guest speakers -&nbsp\;<a href="https://th.linkedin.com/in/tatiya-meemeskul-b2a909ab">Tatiya Meemeskul</a>\, Managing Director\, Lenso Aerospace and President of TAMIA and&nbsp\;<a href="https://th.linkedin.com/in/ketanpole">Ketan Pole</a>\, CEO\, C.C.S. Group and Vice President of TAMIA - will present on TAMIA's overall objectives and activities\, followed by a Question &amp\; Answer session\, and an open discussion with AMCHAM members on key issues of common interest.<br>\n<br>\n<u><strong>About the Speakers</strong></u><br>\n<br>\nTatiya Meemeskul&nbsp\;is currently the President of Lenso Aerospace Co.\, Ltd. He graduated from the University of Plymouth\, UK with MSc in computer application and Postgraduate Diploma in web technologies and security.&nbsp\;He started his career in the automotive industry in Thailand and&nbsp\;moved to UK to continue his work. He has 16 years of experience in aerospace manufacturing&nbsp\;processes like designing\, prototyping\, machining\, sheet metal fabrication\, composite\, NDT\, chemical processing\, paint and assembly. His past experience includes working in OEM\, defense\, MRO and the space sector.<br>\n<br>\nKetan Pole&nbsp\;is&nbsp\;currently the CEO of C.C.S. Advance Tech. CO.\, LTD. and CCS group\, Thailand.<br>\nHe has 37 years of experience in manufacturing and has been working in Thailand for the last 29 years\, out of which he spent 24 years working with the CCS group\, Thailand. A qualified mechanical engineer and a business executive\, he has experience in CNC manufacturing for various high technology industries: Precision Direct OEM components for aerospace\, satellite launching space rocket motors\, nuclear power plant component manufacturing\, heavy machinery\, tool and&nbsp\;dye\, diesel engine parts manufacturing\, semiconductor front end/back end tooling\, tooling for bearing industries\, oil and gas components manufacturing\, and components for biomedical and automotive industries.
LOCATION:Webinar
UID:e.3314.1848
SEQUENCE:3
DTSTAMP:20260422T062938Z
URL:https://connect.amchamthailand.com/events/details/aerospace-council-discussion-with-the-thai-aerospace-manufacturing-industries-association-tamia-1848
END:VEVENT

END:VCALENDAR
