BEGIN:VCALENDAR
VERSION:2.0
PRODID:-//ChamberMaster//Event Calendar 2.0//EN
METHOD:PUBLISH
X-PUBLISHED-TTL:P3D
REFRESH-INTERVAL:P3D
CALSCALE:GREGORIAN
BEGIN:VEVENT
DTSTART:20230307T020000Z
DTEND:20230307T030000Z
X-MICROSOFT-CDO-ALLDAYEVENT:FALSE
SUMMARY:AAP 2023 Outlook in Washington
DESCRIPTION:To discuss the new Congress under as split government\, US-China relations\, and other issues that we expect will impact the Asia Pacific Region.\n\n\n\nKeynote Speakers\n\n\n	Loren Monroe\, Principle\, BGR Group - State and Local Advocacy Practice\n	Jonathan Mantz\, Principle\, BGR Group - Commerce\, Infrastructure\, and Energy Practice\n	Joe Lai\, Principal\, BGR Group - International and Trade Practice\n	Steve Okun\, Chair\, AmChams of the Asia Pacific
X-ALT-DESC;FMTTYPE=text/html:<p color:="" font-size:="" line-height:="" margin-bottom:="" margin-top:="" open="" style="box-sizing: border-box\; font-family: ">To discuss the new Congress under as split government\, US-China relations\, and other issues that we expect will impact the Asia Pacific Region.<br style="box-sizing: border-box\;" />\n<br style="box-sizing: border-box\;" />\n<span style="box-sizing: border-box\; font-weight: bolder\;">Keynote Speakers</span></p>\n\n<ul 0px="" 1rem="" color:="" font-size:="" list-style-image:="" list-style-position:="" margin:="" open="" outline:="" style="box-sizing: border-box\; font-family: ">\n	<li style="box-sizing: border-box\; margin: 0px\;">Loren Monroe\, Principle\, BGR Group - State and Local Advocacy Practice</li>\n	<li style="box-sizing: border-box\; margin: 0px\;">Jonathan Mantz\, Principle\, BGR Group - Commerce\, Infrastructure\, and Energy Practice</li>\n	<li style="box-sizing: border-box\; margin: 0px\; outline: 0px\;">Joe Lai\, Principal\, BGR Group - International and Trade Practice</li>\n	<li style="box-sizing: border-box\; margin: 0px\;">Steve Okun\, Chair\, AmChams of the Asia Pacific</li>\n</ul>\n
LOCATION:Zoom Webinar
UID:e.3314.2522
SEQUENCE:3
DTSTAMP:20260420T070815Z
URL:https://connect.amchamthailand.com/events/details/aap-2023-outlook-in-washington-2522
END:VEVENT

END:VCALENDAR
