BEGIN:VCALENDAR
VERSION:2.0
PRODID:-//ChamberMaster//Event Calendar 2.0//EN
METHOD:PUBLISH
X-PUBLISHED-TTL:P3D
REFRESH-INTERVAL:P3D
CALSCALE:GREGORIAN
BEGIN:VEVENT
DTSTART:20191129T033000Z
DTEND:20191129T140000Z
X-MICROSOFT-CDO-ALLDAYEVENT:FALSE
SUMMARY:2019 Turkey Day ChariTEE Golf Tournament
DESCRIPTION:Please join us for the premier Charity Golf Tournament for the American business community in Thailand\, the AMCHAM's Thanksgiving Day Charity Golf Tournament!\n\n\n\nFormat: We are playing for charity so everyone is invited to participate. This is a 2 best balls scramble format. There will be three flights based on team final score. Handicaps are not calculated and flight assignment is dependent upon final score.\n\n\n\nPrizes: Trophies will be awarded to each member of the top 3 four-person teams of each flight\, 3 flights and last place over all. Each player will receive a goody bag plus be eligible for grand lucky draw prizes.\n\n\n\nEligibility: First 144 entries (4 teams) received with payment.\n\n\n\nDeadline for booking: November 19\, 2019 or until sold out!!!\n\nTHANK YOU TO OUR SPONSORS:\n\n\n\nPlatinum Sponsors:\n\n\n	Agoda\n	Chevron\n	Citibank\n	McThai\n	Minor International \n\n\nGold Sponsors:\n\n\n	Bank of Ayudhya (Krungsri)\n	Phillip Morris\n	Seagate\n	Ford\n	International School of Bangkok\n	Johnson & Johnson \n	WHA group\n\n\nSponsorships still available: \n\n\n	50\,000 Baht Sponsor: covers team of 4 at a tournament\, sponsorship recognition prior\, during and after.\n	Prize Sponsor: Company's logo on banner\, Company's logo on T-AB Magazine Golf Tournament Issue\, sponsorship recognition prior\, during and after.
X-ALT-DESC;FMTTYPE=text/html:<p><span style="font-size:14px\;">Please join us for the premier Charity Golf Tournament for the American business community in Thailand\, the AMCHAM&#39\;s Thanksgiving Day Charity Golf Tournament!</span><br />\n<br />\n<strong>Format:</strong> We are playing for charity so everyone is invited to participate. This is a 2 best balls scramble format. There will be three flights based on team final score. Handicaps are not calculated and flight assignment is dependent upon final score.<br />\n<br />\n<strong>Prizes:</strong> Trophies will be awarded to each member of the top 3 four-person teams of each flight\, 3 flights and last place over all. Each player will receive a goody bag plus be eligible for grand lucky draw prizes.<br />\n<br />\n<strong>Eligibility</strong>: First 144 entries (4 teams) received with payment.<br />\n<br />\n<strong>Deadline for booking: November 19\, 2019&nbsp\;or until sold out!!!</strong></p>\n\n<p>THANK YOU TO OUR SPONSORS:<br />\n<br />\nPlatinum Sponsors:</p>\n\n<ul>\n	<li>Agoda</li>\n	<li>Chevron</li>\n	<li>Citibank</li>\n	<li>McThai</li>\n	<li>Minor International&nbsp\;</li>\n</ul>\n\n<p>Gold Sponsors:</p>\n\n<ul>\n	<li>Bank of Ayudhya (Krungsri)</li>\n	<li>Phillip Morris</li>\n	<li>Seagate</li>\n	<li>Ford</li>\n	<li>International School of Bangkok</li>\n	<li>Johnson &amp\; Johnson&nbsp\;</li>\n	<li>WHA group</li>\n</ul>\n\n<p>Sponsorships still available:&nbsp\;</p>\n\n<ul>\n	<li>50\,000 Baht Sponsor:&nbsp\;covers team of 4 at a tournament\, sponsorship recognition prior\, during and after.</li>\n	<li>Prize Sponsor: Company&#39\;s logo on banner\, Company&#39\;s logo on T-AB Magazine Golf Tournament Issue\,&nbsp\;sponsorship recognition prior\, during and after.</li>\n</ul>\n
LOCATION:The Vintage Club\, Bang Bor\, Samutprakran
UID:e.3314.263
SEQUENCE:3
DTSTAMP:20260423T091841Z
URL:https://connect.amchamthailand.com/events/details/2019-turkey-day-charitee-golf-tournament-263
END:VEVENT

END:VCALENDAR
