BEGIN:VCALENDAR
VERSION:2.0
PRODID:-//ChamberMaster//Event Calendar 2.0//EN
METHOD:PUBLISH
X-PUBLISHED-TTL:P3D
REFRESH-INTERVAL:P3D
CALSCALE:GREGORIAN
BEGIN:VEVENT
DTSTART:20190912T113000Z
DTEND:20190912T140000Z
X-MICROSOFT-CDO-ALLDAYEVENT:FALSE
SUMMARY:2019 AMCHAM Webster University September ChariBOWL Tournament
DESCRIPTION:Join us for the second AMCHAM Webster University ChariBowl Tournament of 2019\, our fun and friendly competition to raise money for the AMCHAM Thailand Foundation's education programs. Form a company team with your colleagues (5 members) or come on your own and we'll match you with a team.\n\n\n\nActivities & Rules:\n\n30 teams of 5 bowlers per team. The tournament consists of 2 games.\n\n\n\nTrophies will be awarded for:\n\nBest Team\n\nHighest Scoring Man\n\nHighest Scoring Woman\n\nLowest Scoring Team
X-ALT-DESC;FMTTYPE=text/html:<p>Join us for the second AMCHAM Webster University ChariBowl&nbsp\;Tournament of 2019\, our fun and friendly competition to raise money for the AMCHAM Thailand Foundation&#39\;s education programs. Form a company team with your colleagues (5 members) or come on your own and we&#39\;ll match you with a team.<br />\n<br />\nActivities &amp\; Rules:<br />\n30 teams of 5 bowlers per team. The tournament consists of 2 games.<br />\n<br />\nTrophies will be awarded for:<br />\nBest Team<br />\nHighest Scoring Man<br />\nHighest Scoring Woman<br />\nLowest Scoring Team</p>\n
LOCATION:Venue: Blu-O Bowl\, Siam Paragon (BTS Siam)
UID:e.3314.268
SEQUENCE:3
DTSTAMP:20260423T103246Z
URL:https://connect.amchamthailand.com/events/details/2019-amcham-webster-university-september-charibowl-tournament-268
END:VEVENT

END:VCALENDAR
